BEGIN:VCALENDAR
VERSION:2.0
PRODID:-//RDB - ECPv6.15.20//NONSGML v1.0//EN
CALSCALE:GREGORIAN
METHOD:PUBLISH
X-WR-CALNAME:RDB
X-ORIGINAL-URL:https://rdbfm.com
X-WR-CALDESC:Évènements pour RDB
REFRESH-INTERVAL;VALUE=DURATION:PT1H
X-Robots-Tag:noindex
X-PUBLISHED-TTL:PT1H
BEGIN:VTIMEZONE
TZID:Europe/Paris
BEGIN:DAYLIGHT
TZOFFSETFROM:+0100
TZOFFSETTO:+0200
TZNAME:CEST
DTSTART:20250330T010000
END:DAYLIGHT
BEGIN:STANDARD
TZOFFSETFROM:+0200
TZOFFSETTO:+0100
TZNAME:CET
DTSTART:20251026T010000
END:STANDARD
BEGIN:DAYLIGHT
TZOFFSETFROM:+0100
TZOFFSETTO:+0200
TZNAME:CEST
DTSTART:20260329T010000
END:DAYLIGHT
BEGIN:STANDARD
TZOFFSETFROM:+0200
TZOFFSETTO:+0100
TZNAME:CET
DTSTART:20261025T010000
END:STANDARD
BEGIN:DAYLIGHT
TZOFFSETFROM:+0100
TZOFFSETTO:+0200
TZNAME:CEST
DTSTART:20270328T010000
END:DAYLIGHT
BEGIN:STANDARD
TZOFFSETFROM:+0200
TZOFFSETTO:+0100
TZNAME:CET
DTSTART:20271031T010000
END:STANDARD
END:VTIMEZONE
BEGIN:VEVENT
DTSTART;TZID=Europe/Paris:20260401T080000
DTEND;TZID=Europe/Paris:20260430T170000
DTSTAMP:20260423T021031
CREATED:20260323T095834Z
LAST-MODIFIED:20260323T095834Z
UID:21364-1775030400-1777568400@rdbfm.com
SUMMARY:Point Justice CDAD Avril en Ardèche
DESCRIPTION:RDB > Évènements
URL:https://rdbfm.com/evenement/point-justice-cdad-avril-en-ardeche/
END:VEVENT
BEGIN:VEVENT
DTSTART;TZID=Europe/Paris:20260420T140000
DTEND;TZID=Europe/Paris:20260511T160000
DTSTAMP:20260423T021031
CREATED:20260407T121248Z
LAST-MODIFIED:20260407T121248Z
UID:21592-1776693600-1778515200@rdbfm.com
SUMMARY:Atelier couture au Cheylard
DESCRIPTION:RDB > Évènements \nl’Université Populaire des Boutières sur ce nouvel atelier de couture en avril/mai.\nAtelier couture: perfectionnement  (Dany Fraysse)\n\n4 séances de 2 heures les lundis 20 et 27 avril\, 4 et 11 mai\n\nObjectifs : Fabriquer un sac : voyage ou autre\, usage laissé au choix du participant\, à définir à la première séance.\n\nPrérequis: Bon niveau en couture: maitriser sa machine et ses réglages\, connaître les différentes coutures d’assemblage ou avoir participé à l’atelier précédent de couture pour débutants.\n\nMatériel : amener sa machine\, du papier de soie pour le patronage\, crayon\, règle\, ciseaux pour papier et tissu\, aiguilles\, bobine de fil. Le reste des fournitures (tissu\, sangle et fermeture éclair) sera à acheter par le participant après la 1ere séance.\n\nHoraires: 14-16h\nLieu: salle de genêts d’or sous la médiathèque.\nGratuit\, inscription demandée\, maximum 8 personnes.
URL:https://rdbfm.com/evenement/atelier-couture-au-cheylard/
LOCATION:07160 Le Cheylard\, Le Cheylard\, 07160\, France
END:VEVENT
BEGIN:VEVENT
DTSTART;TZID=Europe/Paris:20260423T100000
DTEND;TZID=Europe/Paris:20260423T130000
DTSTAMP:20260423T021031
CREATED:20260409T082709Z
LAST-MODIFIED:20260409T090716Z
UID:21603-1776938400-1776949200@rdbfm.com
SUMMARY:Matinée de la création au Cheylard
DESCRIPTION:RDB > Évènements \nVous souhaitez créer\, reprendre ou développer votre entreprise ?\nVal’Eyrieux organise une matinée de la création le jeudi 23 avril de 10h à 13h.\nUne dizaine de professionnels de l’accompagnement seront présents dans les locaux de Pôleyrieux au Cheylard. \nVenez poser vos questions sans rendez-vous sur tous les aspects de la création et la gestion d’entreprise.\nUn événement ouvert à tous et gratuit pour faire décoller vos projets !\nPlus d’informations sur www.poleyrieux.com  \n 
URL:https://rdbfm.com/evenement/matinee-de-la-creation-au-cheylard/
LOCATION:07160 Le Cheylard\, Le Cheylard\, 07160\, France
END:VEVENT
BEGIN:VEVENT
DTSTART;TZID=Europe/Paris:20260423T200000
DTEND;TZID=Europe/Paris:20260423T220000
DTSTAMP:20260423T021031
CREATED:20260317T075855Z
LAST-MODIFIED:20260420T125019Z
UID:21729-1776974400-1776981600@rdbfm.com
SUMMARY:Prochain conseil municipal au Cheylard
DESCRIPTION:RDB > ÉvènementsLe conseil municipal se réunira en séance publique jeudi 23 Avril à 20h00 \nEn mairie en salle du conseil municipal \nA l’ordre du jour : \n1 – Approbation des PV des séances du 25 Février et du 22 mars 2026 \n2- Finances M57 / Adoption du règlement Budgétaire et financier \n3- Comptes financiers uniques 2025 / SPIC Energies renouvelables et Communes \n4- Budget primitif 2026 du SPIC Energies renouvelables \n5- Budget primitif 2026 de la commune et délibérations annexes \n6- Règlement intérieur \n7- Ressources humaines \n8- Questions diverses \n9- Communications du Maire.
URL:https://rdbfm.com/evenement/prochain-conseil-municipal-au-cheylard/
LOCATION:07160 Le Cheylard\, Le Cheylard\, 07160\, France
END:VEVENT
BEGIN:VEVENT
DTSTART;TZID=Europe/Paris:20260423T203000
DTEND;TZID=Europe/Paris:20260423T223000
DTSTAMP:20260423T021031
CREATED:20260410T071532Z
LAST-MODIFIED:20260410T071532Z
UID:21641-1776976200-1776983400@rdbfm.com
SUMMARY:Prochain conseil municipal à St Agrève
DESCRIPTION:RDB > ÉvènementsLe prochain conseil municipal de Saint-Agrève aura lieu le jeudi 23 avril à 20h30\, dans la salle du conseil au 1er étage de la mairie.\nL’ordre du jour sera communiqué via Illiwap et affiché en mairie environ une semaine avant la date du conseil.
URL:https://rdbfm.com/evenement/prochain-conseil-municipal-a-st-agreve-2/
LOCATION:07320 St-Agrève\, St-Agrève\, 07320\, France
END:VEVENT
END:VCALENDAR